BEGIN:VCALENDAR
VERSION:2.0
PRODID:-//ChamberMaster//Event Calendar 2.0//EN
METHOD:PUBLISH
X-PUBLISHED-TTL:P3D
REFRESH-INTERVAL:P3D
CALSCALE:GREGORIAN
BEGIN:VEVENT
DTSTART;VALUE=DATE:20181122
DTEND;VALUE=DATE:20181123
TRANSP:TRANSPARENT
X-MICROSOFT-CDO-ALLDAYEVENT:TRUE
SUMMARY:Thanksgiving Dinner at Charlies
DESCRIPTION:Ham or Turkey\n\nDessert Table
X-ALT-DESC;FMTTYPE=text/html:Ham or Turkey<br />\nDessert Table
LOCATION:
UID:e.11.18583
SEQUENCE:3
DTSTAMP:20260420T021647Z
URL:https://leechlake.mobileappview.com/events/details/thanksgiving-dinner-at-charlies-18583
END:VEVENT

END:VCALENDAR
