BEGIN:VCALENDAR
VERSION:2.0
PRODID:-//ChamberMaster//Event Calendar 2.0//EN
METHOD:PUBLISH
X-PUBLISHED-TTL:P3D
REFRESH-INTERVAL:P3D
CALSCALE:GREGORIAN
BEGIN:VEVENT
DTSTART;VALUE=DATE:20161124
DTEND;VALUE=DATE:20161125
TRANSP:TRANSPARENT
X-MICROSOFT-CDO-ALLDAYEVENT:TRUE
SUMMARY:Thanksgiving Dinner-Immanuel Lutheran
DESCRIPTION:11 am-1 pm- No Charge
X-ALT-DESC;FMTTYPE=text/html:11 am-1 pm- No Charge
LOCATION:Immanuel Lutheran Church
UID:e.11.5209
SEQUENCE:3
DTSTAMP:20260421T154805Z
URL:https://leechlake.mobileappview.com/events/details/thanksgiving-dinner-immanuel-lutheran-11-24-2016-5209
END:VEVENT

END:VCALENDAR
