BEGIN:VCALENDAR
VERSION:2.0
PRODID:-//ChamberMaster//Event Calendar 2.0//EN
METHOD:PUBLISH
X-PUBLISHED-TTL:P3D
REFRESH-INTERVAL:P3D
CALSCALE:GREGORIAN
BEGIN:VEVENT
DTSTART:20181122T170000Z
DTEND:20181122T190000Z
X-MICROSOFT-CDO-ALLDAYEVENT:FALSE
SUMMARY:Thanksgiving Dinner-Immanuel Lutheran
DESCRIPTION:Immanuel Lutheran Church
X-ALT-DESC;FMTTYPE=text/html:<a href="https://chambermaster.blob.core.windows.net/userfiles/UserFiles/chambers/11/File/immanuel.pdf">Immanuel Lutheran Church</a>&nbsp\;
LOCATION:Immanuel Lutheran Dinner
UID:e.11.8919
SEQUENCE:3
DTSTAMP:20260420T021102Z
URL:https://leechlake.mobileappview.com/events/details/thanksgiving-dinner-immanuel-lutheran-8919
END:VEVENT

END:VCALENDAR
