BEGIN:VCALENDAR
VERSION:2.0
PRODID:-//ChamberMaster//Event Calendar 2.0//EN
METHOD:PUBLISH
X-PUBLISHED-TTL:P3D
REFRESH-INTERVAL:P3D
CALSCALE:GREGORIAN
BEGIN:VEVENT
DTSTART;VALUE=DATE:20160604
DTEND;VALUE=DATE:20160605
TRANSP:TRANSPARENT
X-MICROSOFT-CDO-ALLDAYEVENT:TRUE
SUMMARY:That 70's Concert
DESCRIPTION:Outdoors under the tent\n\nKool & the Gang\n\nVillage People\n\nKC and the Sunshine Band\n\nAlso A Taste of Honey and Rose Royce
X-ALT-DESC;FMTTYPE=text/html:Outdoors under the tent<br />\nKool &amp\; the Gang<br />\nVillage People<br />\nKC and the Sunshine Band<br />\nAlso A Taste of Honey and Rose Royce
LOCATION:Northern Lights Casino\, Hotel and Event Center
UID:e.11.8352
SEQUENCE:3
DTSTAMP:20260421T235751Z
URL:https://leechlake.mobileappview.com/events/details/that-70-s-concert-06-04-2016-8352
END:VEVENT

END:VCALENDAR
