BEGIN:VCALENDAR
VERSION:2.0
PRODID:-//ChamberMaster//Event Calendar 2.0//EN
METHOD:PUBLISH
X-PUBLISHED-TTL:P3D
REFRESH-INTERVAL:P3D
CALSCALE:GREGORIAN
BEGIN:VEVENT
DTSTART;VALUE=DATE:20181103
DTEND;VALUE=DATE:20181104
TRANSP:TRANSPARENT
X-MICROSOFT-CDO-ALLDAYEVENT:TRUE
SUMMARY:The Men From Magic Mike/Northern Lights Casino
DESCRIPTION:
X-ALT-DESC;FMTTYPE=text/html:
LOCATION:Tribute Tour
UID:e.11.17989
SEQUENCE:3
DTSTAMP:20260420T022012Z
URL:https://leechlake.mobileappview.com/events/details/the-men-from-magic-mike-northern-lights-casino-17989
END:VEVENT

END:VCALENDAR
