BEGIN:VCALENDAR
VERSION:2.0
PRODID:-//ChamberMaster//Event Calendar 2.0//EN
METHOD:PUBLISH
X-PUBLISHED-TTL:P3D
REFRESH-INTERVAL:P3D
CALSCALE:GREGORIAN
BEGIN:VEVENT
DTSTART;VALUE=DATE:20190626
DTEND;VALUE=DATE:20190627
TRANSP:TRANSPARENT
X-MICROSOFT-CDO-ALLDAYEVENT:TRUE
SUMMARY:The Taffetas-Walker Bay Theater
DESCRIPTION:
X-ALT-DESC;FMTTYPE=text/html:
LOCATION:Walker Bay Theater
UID:e.11.16924
SEQUENCE:3
DTSTAMP:20260419T152607Z
URL:https://leechlake.mobileappview.com/events/details/the-taffetas-walker-bay-theater-06-26-2019-16924
END:VEVENT

END:VCALENDAR
