BEGIN:VCALENDAR
VERSION:2.0
PRODID:-//ChamberMaster//Event Calendar 2.0//EN
METHOD:PUBLISH
X-PUBLISHED-TTL:P3D
REFRESH-INTERVAL:P3D
CALSCALE:GREGORIAN
BEGIN:VEVENT
DTSTART:20190328T233000Z
DTEND:20190329T013000Z
X-MICROSOFT-CDO-ALLDAYEVENT:FALSE
SUMMARY:The United States Constitution in Modern Times
DESCRIPTION:Designed to explore community constitutional understanding through lecture and discussion.  The presenter will introduce materials about the US Constitution and facilitate discussions about our founding principles and contemporary applications.
X-ALT-DESC;FMTTYPE=text/html:Designed to explore community constitutional understanding through lecture and discussion.&nbsp\; The presenter will introduce materials about the US Constitution and facilitate discussions about our founding principles and contemporary applications.&nbsp\;
LOCATION:WHA Doubl Study Hall
UID:e.11.19546
SEQUENCE:3
DTSTAMP:20260419T200435Z
URL:https://leechlake.mobileappview.com/events/details/the-united-states-constitution-in-modern-times-19546
END:VEVENT

END:VCALENDAR
