BEGIN:VCALENDAR
VERSION:2.0
PRODID:-//ChamberMaster//Event Calendar 2.0//EN
METHOD:PUBLISH
X-PUBLISHED-TTL:P3D
REFRESH-INTERVAL:P3D
CALSCALE:GREGORIAN
BEGIN:VEVENT
DTSTART:20170817T200000Z
DTEND:20170817T230000Z
X-MICROSOFT-CDO-ALLDAYEVENT:FALSE
SUMMARY:Thrivent Financial Open House
DESCRIPTION:Special Open House\n\nIn honor of tthe new Paws and Claws facility in Hackensack.
X-ALT-DESC;FMTTYPE=text/html:Special Open House<br />\nIn honor of tthe new Paws and Claws facility in Hackensack.
LOCATION:800 Minnesota Avenue Walker\, MN
UID:e.11.10612
SEQUENCE:3
DTSTAMP:20260421T011421Z
URL:https://leechlake.mobileappview.com/events/details/thrivent-financial-open-house-10612
END:VEVENT

END:VCALENDAR
