BEGIN:VCALENDAR
VERSION:2.0
PRODID:-//ChamberMaster//Event Calendar 2.0//EN
METHOD:PUBLISH
X-PUBLISHED-TTL:P3D
REFRESH-INTERVAL:P3D
CALSCALE:GREGORIAN
BEGIN:VEVENT
DTSTART:20180919T210000Z
DTEND:20180919T230000Z
X-MICROSOFT-CDO-ALLDAYEVENT:FALSE
SUMMARY:Thrivent Financial / Paws & Claws
DESCRIPTION:
X-ALT-DESC;FMTTYPE=text/html:
LOCATION:800 Minnesota Ave. Walker\, MN
UID:e.11.16857
SEQUENCE:3
DTSTAMP:20260420T050915Z
URL:https://leechlake.mobileappview.com/events/details/thrivent-financial-paws-claws-16857
END:VEVENT

END:VCALENDAR
