BEGIN:VCALENDAR
VERSION:2.0
PRODID:-//ChamberMaster//Event Calendar 2.0//EN
METHOD:PUBLISH
X-PUBLISHED-TTL:P3D
REFRESH-INTERVAL:P3D
CALSCALE:GREGORIAN
BEGIN:VEVENT
DTSTART;VALUE=DATE:20181016
DTEND;VALUE=DATE:20181017
TRANSP:TRANSPARENT
X-MICROSOFT-CDO-ALLDAYEVENT:TRUE
SUMMARY:Thrivent Financial - Tax Reform
DESCRIPTION:Click here for Information US Tax Reform and How it Could affect you
X-ALT-DESC;FMTTYPE=text/html:<a href="https://chambermaster.blob.core.windows.net/userfiles/UserFiles/chambers/11/File/Thrivent.pdf">Click here for Information</a> US Tax Reform and How it Could affect you<br />\n<br />\n&nbsp\;
LOCATION:
UID:e.11.18003
SEQUENCE:3
DTSTAMP:20260420T034752Z
URL:https://leechlake.mobileappview.com/events/details/thrivent-financial-tax-reform-18003
END:VEVENT

END:VCALENDAR
