BEGIN:VCALENDAR
VERSION:2.0
PRODID:-//ChamberMaster//Event Calendar 2.0//EN
METHOD:PUBLISH
X-PUBLISHED-TTL:P3D
REFRESH-INTERVAL:P3D
CALSCALE:GREGORIAN
BEGIN:VEVENT
DTSTART;VALUE=DATE:20160615
DTEND;VALUE=DATE:20160616
TRANSP:TRANSPARENT
X-MICROSOFT-CDO-ALLDAYEVENT:TRUE
SUMMARY:Tianna Country Club ega Demo Day - Tianna Country Club
DESCRIPTION:
X-ALT-DESC;FMTTYPE=text/html:
LOCATION:
UID:e.11.5290
SEQUENCE:3
DTSTAMP:20260422T000500Z
URL:https://leechlake.mobileappview.com/events/details/tianna-country-club-ega-demo-day-tianna-country-club-06-15-2016-5290
END:VEVENT

END:VCALENDAR
