BEGIN:VCALENDAR
VERSION:2.0
PRODID:-//ChamberMaster//Event Calendar 2.0//EN
METHOD:PUBLISH
X-PUBLISHED-TTL:P3D
REFRESH-INTERVAL:P3D
CALSCALE:GREGORIAN
BEGIN:VEVENT
DTSTART:20190619T180000Z
DTEND:20190619T220000Z
X-MICROSOFT-CDO-ALLDAYEVENT:FALSE
SUMMARY:Tianna Country Club Mega Demo Day
DESCRIPTION:Mega Demo Day\n\nCome hit the hottest clubs of 2018
X-ALT-DESC;FMTTYPE=text/html:Mega Demo Day<br />\nCome hit the hottest clubs of 2018
LOCATION:Tianna Country Club
UID:e.11.17373
SEQUENCE:3
DTSTAMP:20260419T152904Z
URL:https://leechlake.mobileappview.com/events/details/tianna-country-club-mega-demo-day-17373
END:VEVENT

END:VCALENDAR
