BEGIN:VCALENDAR
VERSION:2.0
PRODID:-//ChamberMaster//Event Calendar 2.0//EN
METHOD:PUBLISH
X-PUBLISHED-TTL:P3D
REFRESH-INTERVAL:P3D
CALSCALE:GREGORIAN
BEGIN:VEVENT
DTSTART;VALUE=DATE:20181124
DTEND;VALUE=DATE:20181125
TRANSP:TRANSPARENT
X-MICROSOFT-CDO-ALLDAYEVENT:TRUE
SUMMARY:Tianna Country Club Open House
DESCRIPTION:Click Here
X-ALT-DESC;FMTTYPE=text/html:<a href="https://chambermaster.blob.core.windows.net/userfiles/UserFiles/chambers/11/File/Tianna.pdf">Click Here</a>&nbsp\;
LOCATION:
UID:e.11.18094
SEQUENCE:3
DTSTAMP:20260420T022149Z
URL:https://leechlake.mobileappview.com/events/details/tianna-country-club-open-house-18094
END:VEVENT

END:VCALENDAR
