BEGIN:VCALENDAR
VERSION:2.0
PRODID:-//ChamberMaster//Event Calendar 2.0//EN
METHOD:PUBLISH
X-PUBLISHED-TTL:P3D
REFRESH-INTERVAL:P3D
CALSCALE:GREGORIAN
BEGIN:VEVENT
DTSTART:20170814T220000Z
DTEND:20170815T000000Z
X-MICROSOFT-CDO-ALLDAYEVENT:FALSE
SUMMARY:Tianna's Ladies Tee
DESCRIPTION:We are offering golf guidance from our outstanding instructors to help build and develop your golf skills as well as your short game\, drives\, fairway shots\, chipping and putting.  Bring your own clubs or use some of ours the choice is yours.
X-ALT-DESC;FMTTYPE=text/html:We are offering golf guidance from our outstanding instructors to help build and develop your golf skills as well as your short game\, drives\, fairway shots\, chipping and putting. &nbsp\;Bring your own clubs or use some of ours the choice is yours.
LOCATION:Tianna Country Club
UID:e.11.9542
SEQUENCE:3
DTSTAMP:20260421T011351Z
URL:https://leechlake.mobileappview.com/events/details/tianna-s-ladies-tee-9542
END:VEVENT

END:VCALENDAR
