BEGIN:VCALENDAR
VERSION:2.0
PRODID:-//ChamberMaster//Event Calendar 2.0//EN
METHOD:PUBLISH
X-PUBLISHED-TTL:P3D
REFRESH-INTERVAL:P3D
CALSCALE:GREGORIAN
BEGIN:VEVENT
DTSTART;VALUE=DATE:20171014
DTEND;VALUE=DATE:20171015
TRANSP:TRANSPARENT
X-MICROSOFT-CDO-ALLDAYEVENT:TRUE
SUMMARY:Tianna Tough Cup Twist
DESCRIPTION:Team Event\n\n2 man scramble with a twist of a blind draw for a 4 man team
X-ALT-DESC;FMTTYPE=text/html:Team Event<br />\n2 man scramble with a twist of a blind draw for a 4 man team
LOCATION:Tianna Country Club
UID:e.11.12161
SEQUENCE:3
DTSTAMP:20260420T220725Z
URL:https://leechlake.mobileappview.com/events/details/tianna-tough-cup-twist-12161
END:VEVENT

END:VCALENDAR
