BEGIN:VCALENDAR
VERSION:2.0
PRODID:-//ChamberMaster//Event Calendar 2.0//EN
METHOD:PUBLISH
X-PUBLISHED-TTL:P3D
REFRESH-INTERVAL:P3D
CALSCALE:GREGORIAN
BEGIN:VEVENT
DTSTART;VALUE=DATE:20171201
DTEND;VALUE=DATE:20171202
TRANSP:TRANSPARENT
X-MICROSOFT-CDO-ALLDAYEVENT:TRUE
SUMMARY:TJ's Floral & Gifts Holiday Open House
DESCRIPTION:Coffee\, Water and cookies\n\ndrawing throughout the party\n\nBuild your own Terrarium
X-ALT-DESC;FMTTYPE=text/html:Coffee\, Water and cookies<br />\ndrawing throughout the party<br />\nBuild your own Terrarium<br />\n&nbsp\;
LOCATION:TJ's Floral and Gifts Walker\, MN
UID:e.11.12491
SEQUENCE:3
DTSTAMP:20260420T190029Z
URL:https://leechlake.mobileappview.com/events/details/tj-s-floral-gifts-holiday-open-house-12491
END:VEVENT

END:VCALENDAR
