BEGIN:VCALENDAR
VERSION:2.0
PRODID:-//ChamberMaster//Event Calendar 2.0//EN
METHOD:PUBLISH
X-PUBLISHED-TTL:P3D
REFRESH-INTERVAL:P3D
CALSCALE:GREGORIAN
BEGIN:VEVENT
DTSTART;VALUE=DATE:20190613
DTEND;VALUE=DATE:20190614
TRANSP:TRANSPARENT
X-MICROSOFT-CDO-ALLDAYEVENT:TRUE
SUMMARY:TLGA Hospice Tournament-Tianna Country Club
DESCRIPTION:4 person/2 best ball format along with field games and prizes.  Sign up as a team or individually\n\nAll proceeds go to CHI St. Joseph Hospice\, which serves Cass County residents.
X-ALT-DESC;FMTTYPE=text/html:4 person/2 best ball format along with field games and prizes. &nbsp\;Sign up as a team or individually<br />\nAll proceeds go to CHI St. Joseph Hospice\, which serves Cass County residents.
LOCATION:Tianna Country Club Walker\, MN
UID:e.11.17372
SEQUENCE:3
DTSTAMP:20260419T153038Z
URL:https://leechlake.mobileappview.com/events/details/tlga-hospice-tournament-tianna-country-club-17372
END:VEVENT

END:VCALENDAR
