BEGIN:VCALENDAR
VERSION:2.0
PRODID:-//ChamberMaster//Event Calendar 2.0//EN
METHOD:PUBLISH
X-PUBLISHED-TTL:P3D
REFRESH-INTERVAL:P3D
CALSCALE:GREGORIAN
BEGIN:VEVENT
DTSTART;VALUE=DATE:20160721
DTEND;VALUE=DATE:20160722
TRANSP:TRANSPARENT
X-MICROSOFT-CDO-ALLDAYEVENT:TRUE
SUMMARY:TLGA Ladies Invitational - Tianna Country Club
DESCRIPTION:
X-ALT-DESC;FMTTYPE=text/html:
LOCATION:
UID:e.11.5297
SEQUENCE:3
DTSTAMP:20260421T224056Z
URL:https://leechlake.mobileappview.com/events/details/tlga-ladies-invitational-tianna-country-club-07-21-2016-5297
END:VEVENT

END:VCALENDAR
