BEGIN:VCALENDAR
VERSION:2.0
PRODID:-//ChamberMaster//Event Calendar 2.0//EN
METHOD:PUBLISH
X-PUBLISHED-TTL:P3D
REFRESH-INTERVAL:P3D
CALSCALE:GREGORIAN
BEGIN:VEVENT
DTSTART;VALUE=DATE:20160909
DTEND;VALUE=DATE:20160911
TRANSP:TRANSPARENT
X-MICROSOFT-CDO-ALLDAYEVENT:TRUE
SUMMARY:Trail in a Day Mn State Parks and Trails
DESCRIPTION:A celebration of the Paul Bunyan State Trail
X-ALT-DESC;FMTTYPE=text/html:A celebration of the Paul Bunyan State Trail
LOCATION:Paul Bunyan State Trail
UID:e.11.8838
SEQUENCE:3
DTSTAMP:20260421T191211Z
URL:https://leechlake.mobileappview.com/events/details/trail-in-a-day-mn-state-parks-and-trails-09-09-2016-8838
END:VEVENT

END:VCALENDAR
