BEGIN:VCALENDAR
VERSION:2.0
PRODID:-//ChamberMaster//Event Calendar 2.0//EN
METHOD:PUBLISH
X-PUBLISHED-TTL:P3D
REFRESH-INTERVAL:P3D
CALSCALE:GREGORIAN
BEGIN:VEVENT
DTSTART:20170916T190000Z
DTEND:20170916T210000Z
X-MICROSOFT-CDO-ALLDAYEVENT:FALSE
SUMMARY:Traveling Art Pub "Inspiration"
DESCRIPTION:Tap Studio Walker\n\n\n\nInspiration "Whimsical Pumpkin"
X-ALT-DESC;FMTTYPE=text/html:Tap Studio Walker<br />\n<br />\nInspiration &quot\;Whimsical Pumpkin&quot\;
LOCATION:401 Mn Ave. Walker\, MN
UID:e.11.10625
SEQUENCE:3
DTSTAMP:20260420T234334Z
URL:https://leechlake.mobileappview.com/events/details/traveling-art-pub-inspiration-10625
END:VEVENT

END:VCALENDAR
