BEGIN:VCALENDAR
VERSION:2.0
PRODID:-//ChamberMaster//Event Calendar 2.0//EN
METHOD:PUBLISH
X-PUBLISHED-TTL:P3D
REFRESH-INTERVAL:P3D
CALSCALE:GREGORIAN
BEGIN:VEVENT
DTSTART:20170927T230000Z
DTEND:20170928T013000Z
X-MICROSOFT-CDO-ALLDAYEVENT:FALSE
SUMMARY:Traveling Art Pub "Inspiration"
DESCRIPTION:Tap Studio Walker\n\n\n\nInspiration Up North Buck
X-ALT-DESC;FMTTYPE=text/html:Tap Studio Walker<br />\n<br />\nInspiration Up North Buck
LOCATION:401 Mn Ave. Walker\, MN
UID:e.11.10627
SEQUENCE:3
DTSTAMP:20260421T000541Z
URL:https://leechlake.mobileappview.com/events/details/traveling-art-pub-inspiration-10627
END:VEVENT

END:VCALENDAR
