BEGIN:VCALENDAR
VERSION:2.0
PRODID:-//ChamberMaster//Event Calendar 2.0//EN
METHOD:PUBLISH
X-PUBLISHED-TTL:P3D
REFRESH-INTERVAL:P3D
CALSCALE:GREGORIAN
BEGIN:VEVENT
DTSTART:20170910T200000Z
DTEND:20170910T220000Z
X-MICROSOFT-CDO-ALLDAYEVENT:FALSE
SUMMARY:Traveling Art Pub "Inspiration"
DESCRIPTION:Tap Studio Walker\n\n\n\nInspiration Love you 2 the moon and back
X-ALT-DESC;FMTTYPE=text/html:Tap Studio Walker<br />\n<br />\nInspiration Love you 2 the moon and back
LOCATION:401 Mn Ave. Walker\, MN
UID:e.11.10628
SEQUENCE:3
DTSTAMP:20260420T234335Z
URL:https://leechlake.mobileappview.com/events/details/traveling-art-pub-inspiration-10628
END:VEVENT

END:VCALENDAR
