BEGIN:VCALENDAR
VERSION:2.0
PRODID:-//ChamberMaster//Event Calendar 2.0//EN
METHOD:PUBLISH
X-PUBLISHED-TTL:P3D
REFRESH-INTERVAL:P3D
CALSCALE:GREGORIAN
BEGIN:VEVENT
DTSTART:20171028T140000Z
DTEND:20171028T170000Z
X-MICROSOFT-CDO-ALLDAYEVENT:FALSE
SUMMARY:Traveling Art Pub "Inspiration"
DESCRIPTION:Tap Studio Walker\n\n\n\nJoin the Tap this Halloween for a morning of creativity and fun!
X-ALT-DESC;FMTTYPE=text/html:Tap Studio Walker<br />\n<br />\nJoin the Tap this Halloween for a morning of creativity and fun!
LOCATION:401 Mn Ave. Walker\, MN
UID:e.11.10629
SEQUENCE:3
DTSTAMP:20260420T220724Z
URL:https://leechlake.mobileappview.com/events/details/traveling-art-pub-inspiration-10629
END:VEVENT

END:VCALENDAR
