BEGIN:VCALENDAR
VERSION:2.0
PRODID:-//ChamberMaster//Event Calendar 2.0//EN
METHOD:PUBLISH
X-PUBLISHED-TTL:P3D
REFRESH-INTERVAL:P3D
CALSCALE:GREGORIAN
BEGIN:VEVENT
DTSTART;VALUE=DATE:20180606
DTEND;VALUE=DATE:20180608
TRANSP:TRANSPARENT
X-MICROSOFT-CDO-ALLDAYEVENT:TRUE
SUMMARY:Traveling Art Pub - Kids Camps
DESCRIPTION:Art Camp\n\nHappy Camper
X-ALT-DESC;FMTTYPE=text/html:Art Camp<br />\nHappy Camper
LOCATION:Traveling Art Pub Walker\, MN
UID:e.11.16435
SEQUENCE:3
DTSTAMP:20260420T092143Z
URL:https://leechlake.mobileappview.com/events/details/traveling-art-pub-kids-camps-16435
END:VEVENT

END:VCALENDAR
