BEGIN:VCALENDAR
VERSION:2.0
PRODID:-//ChamberMaster//Event Calendar 2.0//EN
METHOD:PUBLISH
X-PUBLISHED-TTL:P3D
REFRESH-INTERVAL:P3D
CALSCALE:GREGORIAN
BEGIN:VEVENT
DTSTART;VALUE=DATE:20180620
DTEND;VALUE=DATE:20180622
TRANSP:TRANSPARENT
X-MICROSOFT-CDO-ALLDAYEVENT:TRUE
SUMMARY:Traveling Art Pub - Kids Camps
DESCRIPTION:Colorful Days
X-ALT-DESC;FMTTYPE=text/html:Colorful Days
LOCATION:Traveling Art Pub Walker\, MN
UID:e.11.16436
SEQUENCE:3
DTSTAMP:20260420T092212Z
URL:https://leechlake.mobileappview.com/events/details/traveling-art-pub-kids-camps-16436
END:VEVENT

END:VCALENDAR
