BEGIN:VCALENDAR
VERSION:2.0
PRODID:-//ChamberMaster//Event Calendar 2.0//EN
METHOD:PUBLISH
X-PUBLISHED-TTL:P3D
REFRESH-INTERVAL:P3D
CALSCALE:GREGORIAN
BEGIN:VEVENT
DTSTART:20180217T200000Z
DTEND:20180217T223000Z
X-MICROSOFT-CDO-ALLDAYEVENT:FALSE
SUMMARY:Traveling Art Pub/ Portage Brewing
DESCRIPTION:https://www.facebook.com/events/1457278331034551??ti=ia
X-ALT-DESC;FMTTYPE=text/html:<a href="https://www.facebook.com/events/1457278331034551??ti=ia">https://www.facebook.com/events/1457278331034551??ti=ia</a>
LOCATION:Portage Brewery
UID:e.11.12790
SEQUENCE:3
DTSTAMP:20260420T154025Z
URL:https://leechlake.mobileappview.com/events/details/traveling-art-pub-portage-brewing-12790
END:VEVENT

END:VCALENDAR
