BEGIN:VCALENDAR
VERSION:2.0
PRODID:-//ChamberMaster//Event Calendar 2.0//EN
METHOD:PUBLISH
X-PUBLISHED-TTL:P3D
REFRESH-INTERVAL:P3D
CALSCALE:GREGORIAN
BEGIN:VEVENT
DTSTART:20160917T143000Z
DTEND:20160917T170000Z
X-MICROSOFT-CDO-ALLDAYEVENT:FALSE
SUMMARY:Traveling Car Show Leaves Walker City Park
DESCRIPTION:Traveling Car Show leaves Walker City Park\, arrives at 11 AM in Longville\, 1 PM  Remer\, 3 PM Award Ceremony
X-ALT-DESC;FMTTYPE=text/html:Traveling Car Show leaves Walker City Park\, arrives at 11 AM in&nbsp\;Longville\, 1 PM &nbsp\;Remer\, 3 PM Award Ceremony
LOCATION:
UID:e.11.8858
SEQUENCE:3
DTSTAMP:20260421T191415Z
URL:https://leechlake.mobileappview.com/events/details/traveling-car-show-leaves-walker-city-park-8858
END:VEVENT

END:VCALENDAR
