BEGIN:VCALENDAR
VERSION:2.0
PRODID:-//ChamberMaster//Event Calendar 2.0//EN
METHOD:PUBLISH
X-PUBLISHED-TTL:P3D
REFRESH-INTERVAL:P3D
CALSCALE:GREGORIAN
BEGIN:VEVENT
DTSTART:20161207T010000Z
DTEND:20161207T030000Z
X-MICROSOFT-CDO-ALLDAYEVENT:FALSE
SUMMARY:Tree of Remembrance Service
DESCRIPTION:Tree of Remembrance Service\n\nCandlelight Memorial Service\n\nPersonalized Holiday Ornaments to be hung on the tree\n\nMemories\, Kinship and refreshments
X-ALT-DESC;FMTTYPE=text/html:Tree of Remembrance Service<br />\nCandlelight Memorial Service<br />\nPersonalized Holiday Ornaments to be hung on the tree<br />\nMemories\, Kinship and refreshments
LOCATION:Northern Peace Funeral Home 114 Tianna Drive Walker\,MN
UID:e.11.9077
SEQUENCE:3
DTSTAMP:20260421T140754Z
URL:https://leechlake.mobileappview.com/events/details/tree-of-remembrance-service-9077
END:VEVENT

END:VCALENDAR
