BEGIN:VCALENDAR
VERSION:2.0
PRODID:-//ChamberMaster//Event Calendar 2.0//EN
METHOD:PUBLISH
X-PUBLISHED-TTL:P3D
REFRESH-INTERVAL:P3D
CALSCALE:GREGORIAN
BEGIN:VEVENT
DTSTART;VALUE=DATE:20180124
DTEND;VALUE=DATE:20180129
TRANSP:TRANSPARENT
X-MICROSOFT-CDO-ALLDAYEVENT:TRUE
SUMMARY:Tropical Escape Week
DESCRIPTION:Tropical Escape Week! (Special Logo attached to this email)\n\nInfo: Tropical Escape Beer Week returns in 2018! Get a taste of the island life without leaving Bemidji. This year we will feature 3 infusions that will be available on tap and to go! \n\n-Blood Orange IPA\n\n-Hibiscus Citrus Blonde\n\n-Coconut Tangerine Winter IPA\n\nPlus the BBC Taproom Kitchen will feature a special menu for the week. Be sure to stop in early\, supplies are limited!
X-ALT-DESC;FMTTYPE=text/html:<em><span style="font-size:9.5pt\;">Tropical Escape Week!</span></em><span style="font-size:9.5pt\;">&nbsp\;(Special Logo attached to this email)</span><br />\n<span style="font-size:9.5pt\;">Info:&nbsp\;</span><span style="letter-spacing:.3pt\;"><span style="color:black\;"><span style="font-family:arial\,sans-serif\;"><span style="font-size:9.5pt\;">Tropical Escape Beer Week returns in 2018! Get a taste of the island life without leaving Bemidji.&nbsp\;This year we will feature 3 infusions that will be available on tap and to go!&nbsp\;</span></span></span></span><br />\n<span style="letter-spacing:.3pt\;"><span style="color:black\;"><span style="font-family:arial\,sans-serif\;"><span style="font-size:9.5pt\;">-Blood Orange IPA</span></span></span></span><br />\n<span style="letter-spacing:.3pt\;"><span style="color:black\;"><span style="font-family:arial\,sans-serif\;"><span style="font-size:9.5pt\;">-Hibiscus Citrus Blonde</span></span></span></span><br />\n<span style="letter-spacing:.3pt\;"><span style="color:black\;"><span style="font-family:arial\,sans-serif\;"><span style="font-size:9.5pt\;">-Coconut Tangerine Winter IPA</span></span></span></span><br />\n<span style="letter-spacing:.3pt\;"><span style="color:black\;"><span style="font-family:arial\,sans-serif\;"><span style="font-size:9.5pt\;">Plus the BBC Taproom Kitchen will feature a special menu for the week.&nbsp\;Be sure to stop in early\, supplies are limited!</span></span></span></span><br />\n&nbsp\;
LOCATION:
UID:e.11.12796
SEQUENCE:3
DTSTAMP:20260420T171353Z
URL:https://leechlake.mobileappview.com/events/details/tropical-escape-week-12796
END:VEVENT

END:VCALENDAR
