BEGIN:VCALENDAR
VERSION:2.0
PRODID:-//ChamberMaster//Event Calendar 2.0//EN
METHOD:PUBLISH
X-PUBLISHED-TTL:P3D
REFRESH-INTERVAL:P3D
CALSCALE:GREGORIAN
BEGIN:VEVENT
DTSTART:20190409T231500Z
DTEND:20190410T013000Z
X-MICROSOFT-CDO-ALLDAYEVENT:FALSE
SUMMARY:Tumbling (ages 3-5) Balancing is a skill!
DESCRIPTION:Basic tumbling to learn balance\, movement and coordination.\n\nClass linited to ten students per time slot.
X-ALT-DESC;FMTTYPE=text/html:Basic tumbling to learn balance\, movement and coordination.<br />\nClass linited to ten students per time slot.
LOCATION:Smart Room/Old West\, Rm Walker/Hackensack/Akeley Schools
UID:e.11.19497
SEQUENCE:3
DTSTAMP:20260419T183331Z
URL:https://leechlake.mobileappview.com/events/details/tumbling-ages-3-5-balancing-is-a-skill-04-09-2019-19497
END:VEVENT

END:VCALENDAR
