BEGIN:VCALENDAR
VERSION:2.0
PRODID:-//ChamberMaster//Event Calendar 2.0//EN
METHOD:PUBLISH
X-PUBLISHED-TTL:P3D
REFRESH-INTERVAL:P3D
CALSCALE:GREGORIAN
BEGIN:VEVENT
DTSTART:20161218T010000Z
DTEND:20161218T050000Z
X-MICROSOFT-CDO-ALLDAYEVENT:FALSE
SUMMARY:Ugly Sweater Holiday Party
DESCRIPTION:Ugly Sweater Holiday Party
X-ALT-DESC;FMTTYPE=text/html:Ugly Sweater Holiday Party
LOCATION:Chase on the Lake 502 Bar and Restaurant
UID:e.11.9057
SEQUENCE:3
DTSTAMP:20260421T140927Z
URL:https://leechlake.mobileappview.com/events/details/ugly-sweater-holiday-party-9057
END:VEVENT

END:VCALENDAR
