BEGIN:VCALENDAR
VERSION:2.0
PRODID:-//ChamberMaster//Event Calendar 2.0//EN
METHOD:PUBLISH
X-PUBLISHED-TTL:P3D
REFRESH-INTERVAL:P3D
CALSCALE:GREGORIAN
BEGIN:VEVENT
DTSTART;VALUE=DATE:20160628
DTEND;VALUE=DATE:20160702
TRANSP:TRANSPARENT
X-MICROSOFT-CDO-ALLDAYEVENT:TRUE
SUMMARY:Ultimate Fishing Camp\, 2016
DESCRIPTION:Your professional Fishing Guides and special Guest\n\nJoin us on Leech Lake in Walker\, MN and fish with some of the biggest names in the fishing industry.
X-ALT-DESC;FMTTYPE=text/html:Your professional Fishing Guides and special Guest<br />\nJoin us on Leech Lake in Walker\, MN and fish with some of the biggest names in the fishing industry.
LOCATION:Leech Lake Walker\, MN
UID:e.11.7280
SEQUENCE:3
DTSTAMP:20260421T223619Z
URL:https://leechlake.mobileappview.com/events/details/ultimate-fishing-camp-2016-06-28-2016-7280
END:VEVENT

END:VCALENDAR
