BEGIN:VCALENDAR
VERSION:2.0
PRODID:-//ChamberMaster//Event Calendar 2.0//EN
METHOD:PUBLISH
X-PUBLISHED-TTL:P3D
REFRESH-INTERVAL:P3D
CALSCALE:GREGORIAN
BEGIN:VEVENT
DTSTART;VALUE=DATE:20170806
DTEND;VALUE=DATE:20170811
TRANSP:TRANSPARENT
X-MICROSOFT-CDO-ALLDAYEVENT:TRUE
SUMMARY:Vacation Bible School
DESCRIPTION:Sign up today and bring your friends
X-ALT-DESC;FMTTYPE=text/html:Sign up today and bring your friends
LOCATION:Immanuel Lutheran Church Walker\, MN
UID:e.11.9548
SEQUENCE:3
DTSTAMP:20260421T011150Z
URL:https://leechlake.mobileappview.com/events/details/vacation-bible-school-9548
END:VEVENT

END:VCALENDAR
