BEGIN:VCALENDAR
VERSION:2.0
PRODID:-//ChamberMaster//Event Calendar 2.0//EN
METHOD:PUBLISH
X-PUBLISHED-TTL:P3D
REFRESH-INTERVAL:P3D
CALSCALE:GREGORIAN
BEGIN:VEVENT
DTSTART:20180213T211500Z
DTEND:20180213T231500Z
X-MICROSOFT-CDO-ALLDAYEVENT:FALSE
SUMMARY:Valentine Take and Bake
DESCRIPTION:
X-ALT-DESC;FMTTYPE=text/html:
LOCATION:WHA Schools
UID:e.11.12970
SEQUENCE:3
DTSTAMP:20260420T153129Z
URL:https://leechlake.mobileappview.com/events/details/valentine-take-and-bake-12970
END:VEVENT

END:VCALENDAR
