BEGIN:VCALENDAR
VERSION:2.0
PRODID:-//ChamberMaster//Event Calendar 2.0//EN
METHOD:PUBLISH
X-PUBLISHED-TTL:P3D
REFRESH-INTERVAL:P3D
CALSCALE:GREGORIAN
BEGIN:VEVENT
DTSTART;VALUE=DATE:20171012
DTEND;VALUE=DATE:20171013
TRANSP:TRANSPARENT
X-MICROSOFT-CDO-ALLDAYEVENT:TRUE
SUMMARY:Verizon Wireless - Twice the Fun - Business After Hours
DESCRIPTION:Hosted by Burggraf Wireless\n\nMorning Mixer - 416 Minnesota Ave. W.\n\n7:30 -8:30 am\n\nBusiness After Hours - Chase on the Lake\n\n5 - 7 pm
X-ALT-DESC;FMTTYPE=text/html:Hosted by Burggraf Wireless<br />\nMorning Mixer - 416 Minnesota Ave. W.<br />\n7:30 -8:30 am<br />\nBusiness After Hours - Chase on the Lake<br />\n5 - 7 pm
LOCATION:
UID:e.11.12075
SEQUENCE:3
DTSTAMP:20260420T220730Z
URL:https://leechlake.mobileappview.com/events/details/verizon-wireless-twice-the-fun-business-after-hours-12075
END:VEVENT

END:VCALENDAR
