BEGIN:VCALENDAR
VERSION:2.0
PRODID:-//ChamberMaster//Event Calendar 2.0//EN
METHOD:PUBLISH
X-PUBLISHED-TTL:P3D
REFRESH-INTERVAL:P3D
CALSCALE:GREGORIAN
BEGIN:VEVENT
DTSTART;VALUE=DATE:20160623
DTEND;VALUE=DATE:20160627
TRANSP:TRANSPARENT
X-MICROSOFT-CDO-ALLDAYEVENT:TRUE
SUMMARY:Veterans who experience PTSD and their spouse
DESCRIPTION:Over the weekend we will offer sessions on PTSD\, medications\, wellness\, and have time to relax in the beauty of the north woods
X-ALT-DESC;FMTTYPE=text/html:Over the weekend we will offer sessions on PTSD\, medications\, wellness\, and have time to relax in the beauty of the north woods&nbsp\;&nbsp\;&nbsp\;&nbsp\;
LOCATION:Camp Bliss 6150 Camp Fish Road Walker\, MN
UID:e.11.8300
SEQUENCE:3
DTSTAMP:20260422T000003Z
URL:https://leechlake.mobileappview.com/events/details/veterans-who-experience-ptsd-and-their-spouse-06-23-2016-8300
END:VEVENT

END:VCALENDAR
