BEGIN:VCALENDAR
VERSION:2.0
PRODID:-//ChamberMaster//Event Calendar 2.0//EN
METHOD:PUBLISH
X-PUBLISHED-TTL:P3D
REFRESH-INTERVAL:P3D
CALSCALE:GREGORIAN
BEGIN:VEVENT
DTSTART;VALUE=DATE:20170622
DTEND;VALUE=DATE:20170626
TRANSP:TRANSPARENT
X-MICROSOFT-CDO-ALLDAYEVENT:TRUE
SUMMARY:Vietnam Veterans Retreat
DESCRIPTION:Come Relax\, recharge and learn ways to cope with Stress in our beautiful up north setting.
X-ALT-DESC;FMTTYPE=text/html:Come Relax\, recharge and learn ways to cope with Stress in our beautiful up north setting.
LOCATION:Camp Bliss 6150 Camp Fish Road Walker\, MN
UID:e.11.9436
SEQUENCE:3
DTSTAMP:20260421T043533Z
URL:https://leechlake.mobileappview.com/events/details/vietnam-veterans-retreat-9436
END:VEVENT

END:VCALENDAR
