BEGIN:VCALENDAR
VERSION:2.0
PRODID:-//ChamberMaster//Event Calendar 2.0//EN
METHOD:PUBLISH
X-PUBLISHED-TTL:P3D
REFRESH-INTERVAL:P3D
CALSCALE:GREGORIAN
BEGIN:VEVENT
DTSTART;VALUE=DATE:20180910
DTEND;VALUE=DATE:20180913
TRANSP:TRANSPARENT
X-MICROSOFT-CDO-ALLDAYEVENT:TRUE
SUMMARY:Vietnam Vets R & R
DESCRIPTION:
X-ALT-DESC;FMTTYPE=text/html:
LOCATION:Camp Bliss
UID:e.11.12190
SEQUENCE:3
DTSTAMP:20260420T051046Z
URL:https://leechlake.mobileappview.com/events/details/vietnam-vets-r-r-12190
END:VEVENT

END:VCALENDAR
