BEGIN:VCALENDAR
VERSION:2.0
PRODID:-//ChamberMaster//Event Calendar 2.0//EN
METHOD:PUBLISH
X-PUBLISHED-TTL:P3D
REFRESH-INTERVAL:P3D
CALSCALE:GREGORIAN
BEGIN:VEVENT
DTSTART:20160809T130000Z
DTEND:20160809T220000Z
X-MICROSOFT-CDO-ALLDAYEVENT:FALSE
SUMMARY:Visit the Mobile Leaning Center
DESCRIPTION:Innovation in Motion\n\nVisit the Mobile Leaning Center
X-ALT-DESC;FMTTYPE=text/html:Innovation in Motion<br />\nVisit the Mobile Leaning Center
LOCATION:CHI St. Joseph's Health 600 Pleasant Ave. Park Rapids\, MN
UID:e.11.8847
SEQUENCE:3
DTSTAMP:20260421T205231Z
URL:https://leechlake.mobileappview.com/events/details/visit-the-mobile-leaning-center-08-09-2016-8847
END:VEVENT

END:VCALENDAR
