BEGIN:VCALENDAR
VERSION:2.0
PRODID:-//ChamberMaster//Event Calendar 2.0//EN
METHOD:PUBLISH
X-PUBLISHED-TTL:P3D
REFRESH-INTERVAL:P3D
CALSCALE:GREGORIAN
BEGIN:VEVENT
DTSTART;VALUE=DATE:20160714
DTEND;VALUE=DATE:20160717
TRANSP:TRANSPARENT
X-MICROSOFT-CDO-ALLDAYEVENT:TRUE
SUMMARY:Volleyball Coach - St. Thomas Coach
DESCRIPTION:Elite Camp\n\nThis camp is open to all players going into 7-12\n\nSpace is limited
X-ALT-DESC;FMTTYPE=text/html:Elite Camp<br />\nThis camp is open to all players going into 7-12<br />\nSpace is limited
LOCATION:WHA
UID:e.11.8340
SEQUENCE:3
DTSTAMP:20260421T223508Z
URL:https://leechlake.mobileappview.com/events/details/volleyball-coach-st-thomas-coach-07-14-2016-8340
END:VEVENT

END:VCALENDAR
