BEGIN:VCALENDAR
VERSION:2.0
PRODID:-//ChamberMaster//Event Calendar 2.0//EN
METHOD:PUBLISH
X-PUBLISHED-TTL:P3D
REFRESH-INTERVAL:P3D
CALSCALE:GREGORIAN
BEGIN:VEVENT
DTSTART;VALUE=DATE:20160617
DTEND;VALUE=DATE:20160620
TRANSP:TRANSPARENT
X-MICROSOFT-CDO-ALLDAYEVENT:TRUE
SUMMARY:Waa Wiye Gaa Maag Pow Wow
DESCRIPTION:13th Traditional Pow Wow held at Squaw Lake. For more information: Iavonne Thompson/Event Coordinator  218-308-3680 lavonnethompson@leechlakegaming.com
X-ALT-DESC;FMTTYPE=text/html:13th Traditional Pow Wow held at Squaw Lake. For more information: Iavonne Thompson/Event Coordinator&nbsp\; 218-308-3680 lavonnethompson@leechlakegaming.com
LOCATION:
UID:e.11.8366
SEQUENCE:3
DTSTAMP:20260422T000012Z
URL:https://leechlake.mobileappview.com/events/details/waa-wiye-gaa-maag-pow-wow-06-17-2016-8366
END:VEVENT

END:VCALENDAR
