BEGIN:VCALENDAR
VERSION:2.0
PRODID:-//ChamberMaster//Event Calendar 2.0//EN
METHOD:PUBLISH
X-PUBLISHED-TTL:P3D
REFRESH-INTERVAL:P3D
CALSCALE:GREGORIAN
BEGIN:VEVENT
DTSTART:20180907T170000Z
DTEND:20180907T190000Z
X-MICROSOFT-CDO-ALLDAYEVENT:FALSE
SUMMARY:WACC Golf Classic
DESCRIPTION:12 pm registration\n\n1 pm shotgun
X-ALT-DESC;FMTTYPE=text/html:12 pm registration<br />\n1 pm shotgun
LOCATION:
UID:e.11.5114
SEQUENCE:3
DTSTAMP:20260420T050929Z
URL:https://leechlake.mobileappview.com/events/details/wacc-golf-classic-08-05-2016-5114
END:VEVENT

END:VCALENDAR
