BEGIN:VCALENDAR
VERSION:2.0
PRODID:-//ChamberMaster//Event Calendar 2.0//EN
METHOD:PUBLISH
X-PUBLISHED-TTL:P3D
REFRESH-INTERVAL:P3D
CALSCALE:GREGORIAN
BEGIN:VEVENT
DTSTART;VALUE=DATE:20190906
DTEND;VALUE=DATE:20190907
TRANSP:TRANSPARENT
X-MICROSOFT-CDO-ALLDAYEVENT:TRUE
SUMMARY:WACC Golf Scramble
DESCRIPTION:
X-ALT-DESC;FMTTYPE=text/html:
LOCATION:Tianna Country Club
UID:e.11.17384
SEQUENCE:3
DTSTAMP:20260419T140225Z
URL:https://leechlake.mobileappview.com/events/details/wacc-golf-scramble-17384
END:VEVENT

END:VCALENDAR
