BEGIN:VCALENDAR
VERSION:2.0
PRODID:-//ChamberMaster//Event Calendar 2.0//EN
METHOD:PUBLISH
X-PUBLISHED-TTL:P3D
REFRESH-INTERVAL:P3D
CALSCALE:GREGORIAN
BEGIN:VEVENT
DTSTART;VALUE=DATE:20170704
DTEND;VALUE=DATE:20170705
TRANSP:TRANSPARENT
X-MICROSOFT-CDO-ALLDAYEVENT:TRUE
SUMMARY:Waddle Like A Duck Half Marathon- Walker City Beach
DESCRIPTION:The "City on the Bay" is now the "Waddle Like a Duck 5k\, 10k and half marathon"  This 4th of July event is a fundraiser for the WACC.\n\nImprovements to the 2017 event include:\n\nA pilot bicycle leading each of the three distance events\n\nA coupon (for those over 21) for a free beer at the Walker 4th of July Beer Garden
X-ALT-DESC;FMTTYPE=text/html:The &quot\;City on the Bay&quot\; is now the &quot\;Waddle Like a Duck 5k\, 10k and half marathon&quot\; &nbsp\;This 4th of July event is a fundraiser for the WACC.<br />\nImprovements to the 2017 event include:<br />\nA pilot bicycle leading each of the three distance events<br />\nA coupon (for those over 21) for a free beer at the Walker 4th of July Beer Garden
LOCATION:
UID:e.11.9162
SEQUENCE:3
DTSTAMP:20260421T025832Z
URL:https://leechlake.mobileappview.com/events/details/waddle-like-a-duck-half-marathon-walker-city-beach-9162
END:VEVENT

END:VCALENDAR
