BEGIN:VCALENDAR
VERSION:2.0
PRODID:-//ChamberMaster//Event Calendar 2.0//EN
METHOD:PUBLISH
X-PUBLISHED-TTL:P3D
REFRESH-INTERVAL:P3D
CALSCALE:GREGORIAN
BEGIN:VEVENT
DTSTART:20170509T220000Z
DTEND:20170510T000000Z
X-MICROSOFT-CDO-ALLDAYEVENT:FALSE
SUMMARY:Walker Adult Day Services Open House
DESCRIPTION:Open house at our new facility\n\n6835 Cranberry Bog Trail
X-ALT-DESC;FMTTYPE=text/html:Open house at our new facility<br />\n6835 Cranberry Bog Trail
LOCATION:Walker Adult Day Services
UID:e.11.9396
SEQUENCE:3
DTSTAMP:20260421T061731Z
URL:https://leechlake.mobileappview.com/events/details/walker-adult-day-services-open-house-9396
END:VEVENT

END:VCALENDAR
