BEGIN:VCALENDAR
VERSION:2.0
PRODID:-//ChamberMaster//Event Calendar 2.0//EN
METHOD:PUBLISH
X-PUBLISHED-TTL:P3D
REFRESH-INTERVAL:P3D
CALSCALE:GREGORIAN
BEGIN:VEVENT
DTSTART:20160904T020000Z
DTEND:20160904T060000Z
X-MICROSOFT-CDO-ALLDAYEVENT:FALSE
SUMMARY:Walker American Legion presents CHROME PONY
DESCRIPTION:Chrome Pony performing at the Walker American Legion
X-ALT-DESC;FMTTYPE=text/html:Chrome Pony performing at the Walker American Legion&nbsp\;
LOCATION:Walker American Legion 407 Front Street Walker\, MN
UID:e.11.8856
SEQUENCE:3
DTSTAMP:20260421T191032Z
URL:https://leechlake.mobileappview.com/events/details/walker-american-legion-presents-chrome-pony-8856
END:VEVENT

END:VCALENDAR
