BEGIN:VCALENDAR
VERSION:2.0
PRODID:-//ChamberMaster//Event Calendar 2.0//EN
METHOD:PUBLISH
X-PUBLISHED-TTL:P3D
REFRESH-INTERVAL:P3D
CALSCALE:GREGORIAN
BEGIN:VEVENT
DTSTART:20160318T220000Z
DTEND:20160319T000000Z
X-MICROSOFT-CDO-ALLDAYEVENT:FALSE
SUMMARY:Walker American Legion Riders Community Fish Fry
DESCRIPTION:Walker American Legion Riders\n\nCommunity Fish Fry
X-ALT-DESC;FMTTYPE=text/html:Walker American Legion Riders<br />\nCommunity Fish Fry
LOCATION:Basement of American Legion Walker\, MN
UID:e.11.7291
SEQUENCE:3
DTSTAMP:20260422T050109Z
URL:https://leechlake.mobileappview.com/events/details/walker-american-legion-riders-community-fish-fry-03-18-2016-7291
END:VEVENT

END:VCALENDAR
