BEGIN:VCALENDAR
VERSION:2.0
PRODID:-//ChamberMaster//Event Calendar 2.0//EN
METHOD:PUBLISH
X-PUBLISHED-TTL:P3D
REFRESH-INTERVAL:P3D
CALSCALE:GREGORIAN
BEGIN:VEVENT
DTSTART:20181012T140000Z
DTEND:20181013T230000Z
X-MICROSOFT-CDO-ALLDAYEVENT:FALSE
SUMMARY:Walker Area Food Shelf HOLIDAY BOUTIQUE
DESCRIPTION:The Walker Area Food Shelf is excited to host another fundraising sale!\n\nOur Holiday Boutique is popping-up at 8381 Lake Land Trail NW\n\n(adjacent to the Boulder's restaurant)\n\nOctober 12th-13th\n\n9:00 am - 6:00:00 pm\n\n\n\nITEMS FOR SALE\n\nAutumn Decor\n\nHalloween Items - Thanksgiving Items - Pumpkins - Florals\n\n \n\nWinter Decor\n\nChristmas items - Artificial trees - Garland & Ornaments - Holiday Lights\n\n\n\nCafe\n\nVariety of soups & chili provided by Green Scene Organic Market\n\nCustom Cupcakes provided by North Country Confections\n\n- Hot Chocolate | Coffee\n\nAnd more!
X-ALT-DESC;FMTTYPE=text/html:<div style="text-align:center"><strong><span style="font-size:16px">The Walker Area Food Shelf is excited to host another fundraising sale!</span></strong><br />\nOur Holiday Boutique is popping-up at 8381 Lake Land Trail NW<br />\n(adjacent to the Boulder&#39\;s restaurant)<br />\nOctober 12th-13th<br />\n9:00 am - 6:00:00 pm<br />\n<br />\n<strong><span style="font-size:16px">ITEMS FOR SALE</span></strong><br />\n<span style="color:#FF0000"><span style="font-size:14px">Autumn Decor</span></span><br />\nHalloween Items - Thanksgiving Items - Pumpkins - Florals<br />\n&nbsp\;<br />\n<span style="font-size:14px"><span style="color:#FF0000">Winter Decor</span></span><br />\nChristmas items -&nbsp\;Artificial trees -&nbsp\;Garland &amp\; Ornaments -&nbsp\;Holiday Lights<br />\n<br />\n<span style="font-size:14px"><span style="color:#FF0000">Cafe</span></span><br />\nVariety of soups &amp\; chili provided by Green Scene Organic Market<br />\nCustom Cupcakes provided by North Country Confections<br />\n-&nbsp\;Hot Chocolate | Coffee<br />\nAnd more!</div>\n
LOCATION:Our Holiday Boutique is popping-up at 381 Lake Land Trail NW Walker\, Minnesota Just 1.5 miles north on Hwy 371 and adjacent to the Boulder's restaurant...watch for our signs!
UID:e.11.17995
SEQUENCE:3
DTSTAMP:20260420T035053Z
URL:https://leechlake.mobileappview.com/events/details/walker-area-food-shelf-holiday-boutique-17995
END:VEVENT

END:VCALENDAR
