BEGIN:VCALENDAR
VERSION:2.0
PRODID:-//ChamberMaster//Event Calendar 2.0//EN
METHOD:PUBLISH
X-PUBLISHED-TTL:P3D
REFRESH-INTERVAL:P3D
CALSCALE:GREGORIAN
BEGIN:VEVENT
DTSTART:20180102T220000Z
DTEND:20180103T010000Z
X-MICROSOFT-CDO-ALLDAYEVENT:FALSE
SUMMARY:Walker Area Food Shelf Open House
DESCRIPTION:The Walker Area Food Shelf faced many opportunities and challenges in 2017.  After years of renting space\, the food shelf board took a big step in purchasing a building in March.  Thanks to the help of numerous volunteers and business owners throughout the summer\, the necessary interior remodeling was recently completed.  The move into the new location was accomplished and doors opened for the first time on November 7\, 2017.   \n\nDirector Cheri Ford and the WAFS Board would like to invite the public to join them in celebrating this momentous occasion at an Open House on Tuesday\, January 2\, 2018 from 4:00 pm   7:00 pm.\n\nIn addition to snacks being served\, brief tours of the food shelf as well as the adjacent clothing depot\, will be given.  \n\nThe Walker Area Food Shelf is located at 8243 Industrial Park across from the Walker Home Center.
X-ALT-DESC;FMTTYPE=text/html:<strong><span style="font-size:13.5pt\;">The Walker Area Food Shelf faced many opportunities and challenges in 2017.&nbsp\; After years of renting space\, the food shelf board took a big step in purchasing a building in March.&nbsp\; Thanks to the help of numerous volunteers and business owners throughout the summer\, the necessary interior remodeling was recently completed.&nbsp\; The move into the new location was accomplished and doors opened for the first time on November 7\, 2017.&nbsp\;&nbsp\; </span></strong><br />\n<strong><span style="font-size:14.0pt\;">Director Cheri Ford and the WAFS Board would like to invite the public to join them in celebrating this momentous occasion at an Open House on Tuesday\, January 2\, 2018 from 4:00 pm &ndash\; 7:00 pm.</span></strong><br />\n<strong><span style="font-size:14.0pt\;">In addition to snacks being served\, brief tours of the food shelf as well as the adjacent clothing depot\, will be given.&nbsp\; </span></strong><br />\n<strong><span style="font-size:14.0pt\;">The Walker Area Food Shelf is located at 8243 Industrial Park across from the Walker Home Center.</span></strong><br />\n&nbsp\;
LOCATION:8243 Industrial Park Walker
UID:e.11.12580
SEQUENCE:3
DTSTAMP:20260420T171706Z
URL:https://leechlake.mobileappview.com/events/details/walker-area-food-shelf-open-house-12580
END:VEVENT

END:VCALENDAR
