BEGIN:VCALENDAR
VERSION:2.0
PRODID:-//ChamberMaster//Event Calendar 2.0//EN
METHOD:PUBLISH
X-PUBLISHED-TTL:P3D
REFRESH-INTERVAL:P3D
CALSCALE:GREGORIAN
BEGIN:VEVENT
DTSTART:20180417T223000Z
DTEND:20180418T010000Z
X-MICROSOFT-CDO-ALLDAYEVENT:FALSE
SUMMARY:Walker Area Pregnancy Support Center Annual Fundraising Benefit
DESCRIPTION:
X-ALT-DESC;FMTTYPE=text/html:
LOCATION:Northern Lights Casino
UID:e.11.12517
SEQUENCE:3
DTSTAMP:20260420T124225Z
URL:https://leechlake.mobileappview.com/events/details/walker-area-pregnancy-support-center-annual-fundraising-benefit-12517
END:VEVENT

END:VCALENDAR
